BEGIN:VCALENDAR
VERSION:2.0
PRODID:-//Montessori Schule Wiesbaden - ECPv6.15.17//NONSGML v1.0//EN
CALSCALE:GREGORIAN
METHOD:PUBLISH
X-ORIGINAL-URL:https://montessori-schule-wiesbaden.de
X-WR-CALDESC:Events for Montessori Schule Wiesbaden
REFRESH-INTERVAL;VALUE=DURATION:PT1H
X-Robots-Tag:noindex
X-PUBLISHED-TTL:PT1H
BEGIN:VTIMEZONE
TZID:Europe/Berlin
BEGIN:DAYLIGHT
TZOFFSETFROM:+0100
TZOFFSETTO:+0200
TZNAME:CEST
DTSTART:20230326T010000
END:DAYLIGHT
BEGIN:STANDARD
TZOFFSETFROM:+0200
TZOFFSETTO:+0100
TZNAME:CET
DTSTART:20231029T010000
END:STANDARD
BEGIN:DAYLIGHT
TZOFFSETFROM:+0100
TZOFFSETTO:+0200
TZNAME:CEST
DTSTART:20240331T010000
END:DAYLIGHT
BEGIN:STANDARD
TZOFFSETFROM:+0200
TZOFFSETTO:+0100
TZNAME:CET
DTSTART:20241027T010000
END:STANDARD
BEGIN:DAYLIGHT
TZOFFSETFROM:+0100
TZOFFSETTO:+0200
TZNAME:CEST
DTSTART:20250330T010000
END:DAYLIGHT
BEGIN:STANDARD
TZOFFSETFROM:+0200
TZOFFSETTO:+0100
TZNAME:CET
DTSTART:20251026T010000
END:STANDARD
BEGIN:DAYLIGHT
TZOFFSETFROM:+0100
TZOFFSETTO:+0200
TZNAME:CEST
DTSTART:20260329T010000
END:DAYLIGHT
BEGIN:STANDARD
TZOFFSETFROM:+0200
TZOFFSETTO:+0100
TZNAME:CET
DTSTART:20261025T010000
END:STANDARD
BEGIN:DAYLIGHT
TZOFFSETFROM:+0100
TZOFFSETTO:+0200
TZNAME:CEST
DTSTART:20270328T010000
END:DAYLIGHT
BEGIN:STANDARD
TZOFFSETFROM:+0200
TZOFFSETTO:+0100
TZNAME:CET
DTSTART:20271031T010000
END:STANDARD
END:VTIMEZONE
BEGIN:VEVENT
DTSTART;TZID=Europe/Berlin:20260221T100000
DTEND;TZID=Europe/Berlin:20260221T140000
DTSTAMP:20260425T133051
CREATED:20250905T064219Z
LAST-MODIFIED:20260311T090007Z
UID:5134-1771668000-1771682400@montessori-schule-wiesbaden.de
SUMMARY:Open day
DESCRIPTION:
URL:https://montessori-schule-wiesbaden.de/en/termin/open-day-4/
CATEGORIES:Event
END:VEVENT
BEGIN:VEVENT
DTSTART;TZID=Europe/Berlin:20260213T073000
DTEND;TZID=Europe/Berlin:20260213T130000
DTSTAMP:20260425T133051
CREATED:20250821T100705Z
LAST-MODIFIED:20260311T090008Z
UID:5063-1770967800-1770987600@montessori-schule-wiesbaden.de
SUMMARY:HELAU - Carnival in the Monti
DESCRIPTION:
URL:https://montessori-schule-wiesbaden.de/en/termin/helau-carnival-in-the-monti/
CATEGORIES:Event
END:VEVENT
BEGIN:VEVENT
DTSTART;TZID=Europe/Berlin:20251101T100000
DTEND;TZID=Europe/Berlin:20251101T140000
DTSTAMP:20260425T133051
CREATED:20250522T091928Z
LAST-MODIFIED:20260311T090010Z
UID:4729-1761991200-1762005600@montessori-schule-wiesbaden.de
SUMMARY:Open day
DESCRIPTION:
URL:https://montessori-schule-wiesbaden.de/en/termin/open-day-3/
LOCATION:Montessori Schule Wiesbaden\, Butterblumenweg 5\, Wiesbaden\, Hessen\, 65201\, Deutschland
CATEGORIES:Event
END:VEVENT
BEGIN:VEVENT
DTSTART;TZID=Europe/Berlin:20251023T080000
DTEND;TZID=Europe/Berlin:20251023T150000
DTSTAMP:20260425T133051
CREATED:20250912T092735Z
LAST-MODIFIED:20260311T090010Z
UID:5183-1761206400-1761231600@montessori-schule-wiesbaden.de
SUMMARY:Autumn hiking day - alternative date
DESCRIPTION:
URL:https://montessori-schule-wiesbaden.de/en/termin/autumn-hiking-day-alternative-date/
CATEGORIES:Event
END:VEVENT
BEGIN:VEVENT
DTSTART;TZID=Europe/Berlin:20251021T080000
DTEND;TZID=Europe/Berlin:20251021T150000
DTSTAMP:20260425T133051
CREATED:20250912T092458Z
LAST-MODIFIED:20260311T090011Z
UID:5178-1761033600-1761058800@montessori-schule-wiesbaden.de
SUMMARY:Autumn hiking day
DESCRIPTION:
URL:https://montessori-schule-wiesbaden.de/en/termin/autumn-hiking-day/
CATEGORIES:Event
END:VEVENT
BEGIN:VEVENT
DTSTART;TZID=Europe/Berlin:20250829T170000
DTEND;TZID=Europe/Berlin:20250829T200000
DTSTAMP:20260425T133051
CREATED:20250521T100640Z
LAST-MODIFIED:20260311T090014Z
UID:4762-1756486800-1756497600@montessori-schule-wiesbaden.de
SUMMARY:Fourth graders: Circus Casselli performance
DESCRIPTION:
URL:https://montessori-schule-wiesbaden.de/en/termin/fourth-graders-circus-casselli-performance/
CATEGORIES:Event
END:VEVENT
BEGIN:VEVENT
DTSTART;TZID=Europe/Berlin:20250825T080000
DTEND;TZID=Europe/Berlin:20250829T130000
DTSTAMP:20260425T133051
CREATED:20250521T100342Z
LAST-MODIFIED:20260311T090015Z
UID:4765-1756108800-1756472400@montessori-schule-wiesbaden.de
SUMMARY:Fourth graders: Circus Casselli
DESCRIPTION:
URL:https://montessori-schule-wiesbaden.de/en/termin/fourth-graders-circus-casselli/
CATEGORIES:Event
END:VEVENT
BEGIN:VEVENT
DTSTART;TZID=Europe/Berlin:20250820T100000
DTEND;TZID=Europe/Berlin:20250820T130000
DTSTAMP:20260425T133051
CREATED:20250521T100113Z
LAST-MODIFIED:20260311T090015Z
UID:4768-1755684000-1755694800@montessori-schule-wiesbaden.de
SUMMARY:Enrolment of the new first graders
DESCRIPTION:
URL:https://montessori-schule-wiesbaden.de/en/termin/enrolment-of-the-new-first-graders/
CATEGORIES:Event
END:VEVENT
BEGIN:VEVENT
DTSTART;TZID=Europe/Berlin:20250817T140000
DTEND;TZID=Europe/Berlin:20250817T170000
DTSTAMP:20260425T133051
CREATED:20250521T095707Z
LAST-MODIFIED:20260311T090016Z
UID:4774-1755439200-1755450000@montessori-schule-wiesbaden.de
SUMMARY:Familiarisation picnic - first graders + godchildren incl. parents
DESCRIPTION:
URL:https://montessori-schule-wiesbaden.de/en/termin/familiarisation-picnic-first-graders-godchildren-incl-parents/
CATEGORIES:Event
END:VEVENT
BEGIN:VEVENT
DTSTART;TZID=Europe/Berlin:20250703T100000
DTEND;TZID=Europe/Berlin:20250703T123000
DTSTAMP:20260425T133051
CREATED:20250522T075430Z
LAST-MODIFIED:20260311T090018Z
UID:4677-1751536800-1751545800@montessori-schule-wiesbaden.de
SUMMARY:Farewell to all fourth-graders
DESCRIPTION:
URL:https://montessori-schule-wiesbaden.de/en/termin/farewell-to-all-fourth-graders/
CATEGORIES:Event
END:VEVENT
BEGIN:VEVENT
DTSTART;TZID=Europe/Berlin:20250702T150000
DTEND;TZID=Europe/Berlin:20250702T190000
DTSTAMP:20260425T133051
CREATED:20250522T075800Z
LAST-MODIFIED:20260311T090018Z
UID:4679-1751468400-1751482800@montessori-schule-wiesbaden.de
SUMMARY:Azurit - Farewell party
DESCRIPTION:
URL:https://montessori-schule-wiesbaden.de/en/termin/azurit-farewell-party/
CATEGORIES:Event
END:VEVENT
BEGIN:VEVENT
DTSTART;TZID=Europe/Berlin:20250628T140000
DTEND;TZID=Europe/Berlin:20250628T180000
DTSTAMP:20260425T133051
CREATED:20241009T061033Z
LAST-MODIFIED:20260311T090020Z
UID:4015-1751119200-1751133600@montessori-schule-wiesbaden.de
SUMMARY:Monti summer party
DESCRIPTION:with sponsored run
URL:https://montessori-schule-wiesbaden.de/en/termin/sommerfest-der-monti-2/
CATEGORIES:Event
END:VEVENT
BEGIN:VEVENT
DTSTART;TZID=Europe/Berlin:20250627T080000
DTEND;TZID=Europe/Berlin:20250627T130000
DTSTAMP:20260425T133051
CREATED:20241009T071104Z
LAST-MODIFIED:20260311T090020Z
UID:4018-1751011200-1751029200@montessori-schule-wiesbaden.de
SUMMARY:Citymarathon
DESCRIPTION:Voluntary participation \nChildren who are not registered will remain at school.
URL:https://montessori-schule-wiesbaden.de/en/termin/citymarathon-2/
CATEGORIES:Event
END:VEVENT
BEGIN:VEVENT
DTSTART;VALUE=DATE:20250613
DTEND;VALUE=DATE:20250614
DTSTAMP:20260425T133051
CREATED:20241009T071753Z
LAST-MODIFIED:20260311T090021Z
UID:4023-1749772800-1749859199@montessori-schule-wiesbaden.de
SUMMARY:Federal Youth Games - alternative date
DESCRIPTION:
URL:https://montessori-schule-wiesbaden.de/en/termin/federal-youth-games-alternative-date/
CATEGORIES:Event
END:VEVENT
BEGIN:VEVENT
DTSTART;VALUE=DATE:20250606
DTEND;VALUE=DATE:20250607
DTSTAMP:20260425T133051
CREATED:20241009T073316Z
LAST-MODIFIED:20260311T090023Z
UID:4025-1749168000-1749254399@montessori-schule-wiesbaden.de
SUMMARY:Federal Youth Games
DESCRIPTION:
URL:https://montessori-schule-wiesbaden.de/en/termin/federal-youth-games-2/
CATEGORIES:Event
END:VEVENT
BEGIN:VEVENT
DTSTART;TZID=Europe/Berlin:20250428T080000
DTEND;TZID=Europe/Berlin:20250430T170000
DTSTAMP:20260425T133051
CREATED:20241031T131622Z
LAST-MODIFIED:20260311T083319Z
UID:4131-1745827200-1746032400@montessori-schule-wiesbaden.de
SUMMARY:Azurit school trip
DESCRIPTION:
URL:https://montessori-schule-wiesbaden.de/en/termin/azurit-school-trip/
CATEGORIES:Event
END:VEVENT
BEGIN:VEVENT
DTSTART;VALUE=DATE:20250428
DTEND;VALUE=DATE:20250501
DTSTAMP:20260425T133051
CREATED:20241008T094604Z
LAST-MODIFIED:20241009T084330Z
UID:4029-1745798400-1746057599@montessori-schule-wiesbaden.de
SUMMARY:Class trip
DESCRIPTION:Azurite – Group
URL:https://montessori-schule-wiesbaden.de/en/termin/class-trip/
CATEGORIES:Event
END:VEVENT
BEGIN:VEVENT
DTSTART;TZID=Europe/Berlin:20250404T103000
DTEND;TZID=Europe/Berlin:20250404T110000
DTSTAMP:20260425T133051
CREATED:20250320T081230Z
LAST-MODIFIED:20250522T135859Z
UID:4741-1743762600-1743764400@montessori-schule-wiesbaden.de
SUMMARY:Easter bazaar
DESCRIPTION:
URL:https://montessori-schule-wiesbaden.de/en/termin/easter-bazaar-2/
CATEGORIES:Event
END:VEVENT
BEGIN:VEVENT
DTSTART;TZID=Europe/Berlin:20250228T080000
DTEND;TZID=Europe/Berlin:20250228T150000
DTSTAMP:20260425T133051
CREATED:20241009T075111Z
LAST-MODIFIED:20241009T075111Z
UID:4038-1740729600-1740754800@montessori-schule-wiesbaden.de
SUMMARY:Carnival in the Monti
DESCRIPTION:
URL:https://montessori-schule-wiesbaden.de/en/termin/carnival-in-the-monti/
CATEGORIES:Event
END:VEVENT
BEGIN:VEVENT
DTSTART;TZID=Europe/Berlin:20250215T100000
DTEND;TZID=Europe/Berlin:20250215T140000
DTSTAMP:20260425T133051
CREATED:20241008T083543Z
LAST-MODIFIED:20241009T084203Z
UID:4040-1739613600-1739628000@montessori-schule-wiesbaden.de
SUMMARY:Open day
DESCRIPTION:
URL:https://montessori-schule-wiesbaden.de/en/termin/open-day/
CATEGORIES:Event
END:VEVENT
BEGIN:VEVENT
DTSTART;VALUE=DATE:20250120
DTEND;VALUE=DATE:20250125
DTSTAMP:20260425T133051
CREATED:20241031T130329Z
LAST-MODIFIED:20241111T080431Z
UID:4119-1737331200-1737763199@montessori-schule-wiesbaden.de
SUMMARY:Cycling training - practice youth traffic school
DESCRIPTION:Fourth graders
URL:https://montessori-schule-wiesbaden.de/en/termin/cycling-training-practice-youth-traffic-school/
CATEGORIES:Event
END:VEVENT
BEGIN:VEVENT
DTSTART;VALUE=DATE:20250113
DTEND;VALUE=DATE:20250118
DTSTAMP:20260425T133051
CREATED:20241009T085432Z
LAST-MODIFIED:20241009T085653Z
UID:4047-1736726400-1737158399@montessori-schule-wiesbaden.de
SUMMARY:Bike training - theory
DESCRIPTION:Fourth graders
URL:https://montessori-schule-wiesbaden.de/en/termin/bike-training-theory/
CATEGORIES:Event
END:VEVENT
BEGIN:VEVENT
DTSTART;TZID=Europe/Berlin:20241219T160000
DTEND;TZID=Europe/Berlin:20241220T100000
DTSTAMP:20260425T133051
CREATED:20241009T102239Z
LAST-MODIFIED:20241009T102317Z
UID:4060-1734624000-1734688800@montessori-schule-wiesbaden.de
SUMMARY:Reading night with overnight stay
DESCRIPTION:Opal – Group
URL:https://montessori-schule-wiesbaden.de/en/termin/reading-night-with-overnight-stay/
CATEGORIES:Event
END:VEVENT
BEGIN:VEVENT
DTSTART;TZID=Europe/Berlin:20241202T130000
DTEND;TZID=Europe/Berlin:20241202T150000
DTSTAMP:20260425T133051
CREATED:20241031T125722Z
LAST-MODIFIED:20241111T080528Z
UID:4116-1733144400-1733151600@montessori-schule-wiesbaden.de
SUMMARY:Afternoon of reading at Freudenberg Castle
DESCRIPTION:All groups and the educational team of the Montessori School Wiesbaden
URL:https://montessori-schule-wiesbaden.de/en/termin/afternoon-of-reading-at-freudenberg-castle/
CATEGORIES:Event
END:VEVENT
BEGIN:VEVENT
DTSTART;VALUE=DATE:20241118
DTEND;VALUE=DATE:20241123
DTSTAMP:20260425T133051
CREATED:20241009T103855Z
LAST-MODIFIED:20241009T103855Z
UID:4062-1731888000-1732319999@montessori-schule-wiesbaden.de
SUMMARY:Swimming camp
DESCRIPTION:Fourth graders
URL:https://montessori-schule-wiesbaden.de/en/termin/swimming-camp/
CATEGORIES:Event
END:VEVENT
BEGIN:VEVENT
DTSTART;TZID=Europe/Berlin:20241113T080000
DTEND;TZID=Europe/Berlin:20241113T150000
DTSTAMP:20260425T133051
CREATED:20241031T131206Z
LAST-MODIFIED:20241111T080652Z
UID:4127-1731484800-1731510000@montessori-schule-wiesbaden.de
SUMMARY:Montinis: Excursion to the Landesmuseum Wiesbaden
DESCRIPTION:
URL:https://montessori-schule-wiesbaden.de/en/termin/montinis-excursion-to-the-landesmuseum-wiesbaden/
CATEGORIES:Event
END:VEVENT
BEGIN:VEVENT
DTSTART;TZID=Europe/Berlin:20241109T100000
DTEND;TZID=Europe/Berlin:20241109T140000
DTSTAMP:20260425T133051
CREATED:20241031T113228Z
LAST-MODIFIED:20241031T113228Z
UID:4095-1731146400-1731160800@montessori-schule-wiesbaden.de
SUMMARY:Open day
DESCRIPTION:
URL:https://montessori-schule-wiesbaden.de/en/termin/open-day-2/
CATEGORIES:Event
END:VEVENT
BEGIN:VEVENT
DTSTART;TZID=Europe/Berlin:20241105T080000
DTEND;TZID=Europe/Berlin:20241105T080000
DTSTAMP:20260425T133051
CREATED:20241031T115921Z
LAST-MODIFIED:20241031T115921Z
UID:4104-1730793600-1730793600@montessori-schule-wiesbaden.de
SUMMARY:School trip to the pheasantry
DESCRIPTION:
URL:https://montessori-schule-wiesbaden.de/en/termin/school-trip-to-the-pheasantry/
CATEGORIES:Event
END:VEVENT
BEGIN:VEVENT
DTSTART;TZID=Europe/Berlin:20241009T190000
DTEND;TZID=Europe/Berlin:20241009T210000
DTSTAMP:20260425T133051
CREATED:20241002T102945Z
LAST-MODIFIED:20241031T122218Z
UID:4111-1728500400-1728507600@montessori-schule-wiesbaden.de
SUMMARY:ElSe Life and work of Maria Montessori / Cosmic education
DESCRIPTION:
URL:https://montessori-schule-wiesbaden.de/en/termin/else-life-and-work-of-maria-montessori-cosmic-education/
CATEGORIES:Event
END:VEVENT
BEGIN:VEVENT
DTSTART;VALUE=DATE:20240706
DTEND;VALUE=DATE:20240707
DTSTAMP:20260425T133051
CREATED:20231025T120619Z
LAST-MODIFIED:20231025T120633Z
UID:1974-1720224000-1720310399@montessori-schule-wiesbaden.de
SUMMARY:Summer festival
DESCRIPTION:
URL:https://montessori-schule-wiesbaden.de/en/termin/summer-festival/
LOCATION:Montessori Schule Wiesbaden\, Butterblumenweg 5\, Wiesbaden\, Hessen\, 65201\, Deutschland
CATEGORIES:Event
ORGANIZER;CN="Montessori Schule Wiesbaden":MAILTO:info@montessori-schule-wiesbaden.de
END:VEVENT
END:VCALENDAR