BEGIN:VCALENDAR
VERSION:2.0
PRODID:-//Montessori Schule Wiesbaden - ECPv6.15.17//NONSGML v1.0//EN
CALSCALE:GREGORIAN
METHOD:PUBLISH
X-WR-CALNAME:Montessori Schule Wiesbaden
X-ORIGINAL-URL:https://montessori-schule-wiesbaden.de
X-WR-CALDESC:Events for Montessori Schule Wiesbaden
REFRESH-INTERVAL;VALUE=DURATION:PT1H
X-Robots-Tag:noindex
X-PUBLISHED-TTL:PT1H
BEGIN:VTIMEZONE
TZID:Europe/Berlin
BEGIN:DAYLIGHT
TZOFFSETFROM:+0100
TZOFFSETTO:+0200
TZNAME:CEST
DTSTART:20240331T010000
END:DAYLIGHT
BEGIN:STANDARD
TZOFFSETFROM:+0200
TZOFFSETTO:+0100
TZNAME:CET
DTSTART:20241027T010000
END:STANDARD
BEGIN:DAYLIGHT
TZOFFSETFROM:+0100
TZOFFSETTO:+0200
TZNAME:CEST
DTSTART:20250330T010000
END:DAYLIGHT
BEGIN:STANDARD
TZOFFSETFROM:+0200
TZOFFSETTO:+0100
TZNAME:CET
DTSTART:20251026T010000
END:STANDARD
BEGIN:DAYLIGHT
TZOFFSETFROM:+0100
TZOFFSETTO:+0200
TZNAME:CEST
DTSTART:20260329T010000
END:DAYLIGHT
BEGIN:STANDARD
TZOFFSETFROM:+0200
TZOFFSETTO:+0100
TZNAME:CET
DTSTART:20261025T010000
END:STANDARD
BEGIN:DAYLIGHT
TZOFFSETFROM:+0100
TZOFFSETTO:+0200
TZNAME:CEST
DTSTART:20270328T010000
END:DAYLIGHT
BEGIN:STANDARD
TZOFFSETFROM:+0200
TZOFFSETTO:+0100
TZNAME:CET
DTSTART:20271031T010000
END:STANDARD
END:VTIMEZONE
BEGIN:VEVENT
DTSTART;VALUE=DATE:20260413
DTEND;VALUE=DATE:20260418
DTSTAMP:20260422T063049
CREATED:20250905T093141Z
LAST-MODIFIED:20260311T090005Z
UID:5150-1776038400-1776470399@montessori-schule-wiesbaden.de
SUMMARY:Fourth graders - theory cycling training
DESCRIPTION:
URL:https://montessori-schule-wiesbaden.de/en/termin/fourth-graders-theory-cycling-training/
CATEGORIES:Administration
END:VEVENT
BEGIN:VEVENT
DTSTART;VALUE=DATE:20260330
DTEND;VALUE=DATE:20260411
DTSTAMP:20260422T063049
CREATED:20250905T064638Z
LAST-MODIFIED:20260311T090005Z
UID:5139-1774828800-1775865599@montessori-schule-wiesbaden.de
SUMMARY:School closed - Easter holidays
DESCRIPTION:
URL:https://montessori-schule-wiesbaden.de/en/termin/school-closed-easter-holidays/
CATEGORIES:School holidays
END:VEVENT
BEGIN:VEVENT
DTSTART;VALUE=DATE:20260330
DTEND;VALUE=DATE:20260403
DTSTAMP:20260422T063049
CREATED:20250905T081939Z
LAST-MODIFIED:20260311T090006Z
UID:5144-1774828800-1775174399@montessori-schule-wiesbaden.de
SUMMARY:Holiday care - Easter holidays
DESCRIPTION:
URL:https://montessori-schule-wiesbaden.de/en/termin/holiday-care-easter-holidays-2/
CATEGORIES:Holiday care
END:VEVENT
BEGIN:VEVENT
DTSTART;TZID=Europe/Berlin:20260221T100000
DTEND;TZID=Europe/Berlin:20260221T140000
DTSTAMP:20260422T063049
CREATED:20250905T064219Z
LAST-MODIFIED:20260311T090007Z
UID:5134-1771668000-1771682400@montessori-schule-wiesbaden.de
SUMMARY:Open day
DESCRIPTION:
URL:https://montessori-schule-wiesbaden.de/en/termin/open-day-4/
CATEGORIES:Event
END:VEVENT
BEGIN:VEVENT
DTSTART;VALUE=DATE:20260217
DTEND;VALUE=DATE:20260218
DTSTAMP:20260422T063049
CREATED:20250821T101412Z
LAST-MODIFIED:20260311T090007Z
UID:5060-1771286400-1771372799@montessori-schule-wiesbaden.de
SUMMARY:Monti closed - Shrove Tuesday
DESCRIPTION:
URL:https://montessori-schule-wiesbaden.de/en/termin/monti-closed-shrove-tuesday/
CATEGORIES:Administration
END:VEVENT
BEGIN:VEVENT
DTSTART;VALUE=DATE:20260216
DTEND;VALUE=DATE:20260217
DTSTAMP:20260422T063049
CREATED:20250821T101216Z
LAST-MODIFIED:20260311T090008Z
UID:5053-1771200000-1771286399@montessori-schule-wiesbaden.de
SUMMARY:Monti closed - Shrove Monday
DESCRIPTION:
URL:https://montessori-schule-wiesbaden.de/en/termin/monti-closed-shrove-monday/
CATEGORIES:Administration
END:VEVENT
BEGIN:VEVENT
DTSTART;TZID=Europe/Berlin:20260213T073000
DTEND;TZID=Europe/Berlin:20260213T130000
DTSTAMP:20260422T063049
CREATED:20250821T100705Z
LAST-MODIFIED:20260311T090008Z
UID:5063-1770967800-1770987600@montessori-schule-wiesbaden.de
SUMMARY:HELAU - Carnival in the Monti
DESCRIPTION:
URL:https://montessori-schule-wiesbaden.de/en/termin/helau-carnival-in-the-monti/
CATEGORIES:Event
END:VEVENT
BEGIN:VEVENT
DTSTART;VALUE=DATE:20260105
DTEND;VALUE=DATE:20260110
DTSTAMP:20260422T063049
CREATED:20250522T080723Z
LAST-MODIFIED:20260311T090009Z
UID:4688-1767571200-1768003199@montessori-schule-wiesbaden.de
SUMMARY:Holiday care - Christmas holidays
DESCRIPTION:
URL:https://montessori-schule-wiesbaden.de/en/termin/holiday-care-christmas-holidays-2025-2026/
CATEGORIES:Holiday care
END:VEVENT
BEGIN:VEVENT
DTSTART;VALUE=DATE:20251222
DTEND;VALUE=DATE:20260110
DTSTAMP:20260422T063049
CREATED:20250522T081359Z
LAST-MODIFIED:20260311T090009Z
UID:4690-1766361600-1768003199@montessori-schule-wiesbaden.de
SUMMARY:School closed - Christmas holidays
DESCRIPTION:i
URL:https://montessori-schule-wiesbaden.de/en/termin/christmas-holidays-3/
CATEGORIES:School holidays
END:VEVENT
BEGIN:VEVENT
DTSTART;TZID=Europe/Berlin:20251101T100000
DTEND;TZID=Europe/Berlin:20251101T140000
DTSTAMP:20260422T063049
CREATED:20250522T091928Z
LAST-MODIFIED:20260311T090010Z
UID:4729-1761991200-1762005600@montessori-schule-wiesbaden.de
SUMMARY:Open day
DESCRIPTION:
URL:https://montessori-schule-wiesbaden.de/en/termin/open-day-3/
LOCATION:Montessori Schule Wiesbaden\, Butterblumenweg 5\, Wiesbaden\, Hessen\, 65201\, Deutschland
CATEGORIES:Event
END:VEVENT
BEGIN:VEVENT
DTSTART;TZID=Europe/Berlin:20251023T080000
DTEND;TZID=Europe/Berlin:20251023T150000
DTSTAMP:20260422T063049
CREATED:20250912T092735Z
LAST-MODIFIED:20260311T090010Z
UID:5183-1761206400-1761231600@montessori-schule-wiesbaden.de
SUMMARY:Autumn hiking day - alternative date
DESCRIPTION:
URL:https://montessori-schule-wiesbaden.de/en/termin/autumn-hiking-day-alternative-date/
CATEGORIES:Event
END:VEVENT
BEGIN:VEVENT
DTSTART;TZID=Europe/Berlin:20251021T080000
DTEND;TZID=Europe/Berlin:20251021T150000
DTSTAMP:20260422T063049
CREATED:20250912T092458Z
LAST-MODIFIED:20260311T090011Z
UID:5178-1761033600-1761058800@montessori-schule-wiesbaden.de
SUMMARY:Autumn hiking day
DESCRIPTION:
URL:https://montessori-schule-wiesbaden.de/en/termin/autumn-hiking-day/
CATEGORIES:Event
END:VEVENT
BEGIN:VEVENT
DTSTART;VALUE=DATE:20251020
DTEND;VALUE=DATE:20251025
DTSTAMP:20260422T063049
CREATED:20250521T102307Z
LAST-MODIFIED:20260311T090012Z
UID:4726-1760918400-1761350399@montessori-schule-wiesbaden.de
SUMMARY:Fourth graders: Swimming camp
DESCRIPTION:
URL:https://montessori-schule-wiesbaden.de/en/termin/fourth-graders-swimming-camp/
CATEGORIES:Administration
END:VEVENT
BEGIN:VEVENT
DTSTART;VALUE=DATE:20251006
DTEND;VALUE=DATE:20251018
DTSTAMP:20260422T063049
CREATED:20250522T081834Z
LAST-MODIFIED:20260311T090012Z
UID:4696-1759708800-1760745599@montessori-schule-wiesbaden.de
SUMMARY:School closed - autumn holidays
DESCRIPTION:
URL:https://montessori-schule-wiesbaden.de/en/termin/herbstferien-4/
CATEGORIES:School holidays
END:VEVENT
BEGIN:VEVENT
DTSTART;VALUE=DATE:20251006
DTEND;VALUE=DATE:20251011
DTSTAMP:20260422T063049
CREATED:20250521T103512Z
LAST-MODIFIED:20260311T090013Z
UID:4731-1759708800-1760140799@montessori-schule-wiesbaden.de
SUMMARY:Holiday care - Autumn holidays
DESCRIPTION:
URL:https://montessori-schule-wiesbaden.de/en/termin/herbstferien-ferienbetreuung-2/
CATEGORIES:Holiday care
END:VEVENT
BEGIN:VEVENT
DTSTART;VALUE=DATE:20251002
DTEND;VALUE=DATE:20251003
DTSTAMP:20260422T063049
CREATED:20250521T100826Z
LAST-MODIFIED:20260311T090013Z
UID:4736-1759363200-1759449599@montessori-schule-wiesbaden.de
SUMMARY:Monti closed - pedagogical day
DESCRIPTION:
URL:https://montessori-schule-wiesbaden.de/en/termin/1st-pedagogical-day-sj-25-26-school-closed/
CATEGORIES:Administration
END:VEVENT
BEGIN:VEVENT
DTSTART;TZID=Europe/Berlin:20250829T170000
DTEND;TZID=Europe/Berlin:20250829T200000
DTSTAMP:20260422T063049
CREATED:20250521T100640Z
LAST-MODIFIED:20260311T090014Z
UID:4762-1756486800-1756497600@montessori-schule-wiesbaden.de
SUMMARY:Fourth graders: Circus Casselli performance
DESCRIPTION:
URL:https://montessori-schule-wiesbaden.de/en/termin/fourth-graders-circus-casselli-performance/
CATEGORIES:Event
END:VEVENT
BEGIN:VEVENT
DTSTART;TZID=Europe/Berlin:20250825T080000
DTEND;TZID=Europe/Berlin:20250829T130000
DTSTAMP:20260422T063049
CREATED:20250521T100342Z
LAST-MODIFIED:20260311T090015Z
UID:4765-1756108800-1756472400@montessori-schule-wiesbaden.de
SUMMARY:Fourth graders: Circus Casselli
DESCRIPTION:
URL:https://montessori-schule-wiesbaden.de/en/termin/fourth-graders-circus-casselli/
CATEGORIES:Event
END:VEVENT
BEGIN:VEVENT
DTSTART;TZID=Europe/Berlin:20250820T100000
DTEND;TZID=Europe/Berlin:20250820T130000
DTSTAMP:20260422T063049
CREATED:20250521T100113Z
LAST-MODIFIED:20260311T090015Z
UID:4768-1755684000-1755694800@montessori-schule-wiesbaden.de
SUMMARY:Enrolment of the new first graders
DESCRIPTION:
URL:https://montessori-schule-wiesbaden.de/en/termin/enrolment-of-the-new-first-graders/
CATEGORIES:Event
END:VEVENT
BEGIN:VEVENT
DTSTART;TZID=Europe/Berlin:20250818T073000
DTEND;TZID=Europe/Berlin:20250818T150000
DTSTAMP:20260422T063049
CREATED:20250521T095823Z
LAST-MODIFIED:20260311T090016Z
UID:4771-1755502200-1755529200@montessori-schule-wiesbaden.de
SUMMARY:Day 1 - the new Montinis
DESCRIPTION:
URL:https://montessori-schule-wiesbaden.de/en/termin/day-1-the-new-montinis/
CATEGORIES:Administration
END:VEVENT
BEGIN:VEVENT
DTSTART;TZID=Europe/Berlin:20250817T140000
DTEND;TZID=Europe/Berlin:20250817T170000
DTSTAMP:20260422T063049
CREATED:20250521T095707Z
LAST-MODIFIED:20260311T090016Z
UID:4774-1755439200-1755450000@montessori-schule-wiesbaden.de
SUMMARY:Familiarisation picnic - first graders + godchildren incl. parents
DESCRIPTION:
URL:https://montessori-schule-wiesbaden.de/en/termin/familiarisation-picnic-first-graders-godchildren-incl-parents/
CATEGORIES:Event
END:VEVENT
BEGIN:VEVENT
DTSTART;TZID=Europe/Berlin:20250707T080000
DTEND;TZID=Europe/Berlin:20250801T150000
DTSTAMP:20260422T063049
CREATED:20250522T080520Z
LAST-MODIFIED:20260311T090017Z
UID:4686-1751875200-1754060400@montessori-schule-wiesbaden.de
SUMMARY:Holiday care - summer holidays
DESCRIPTION:For Monti students registered by 02 June 2025.
URL:https://montessori-schule-wiesbaden.de/en/termin/holiday-care-summer-holidays-2/
CATEGORIES:Holiday care
END:VEVENT
BEGIN:VEVENT
DTSTART;VALUE=DATE:20250707
DTEND;VALUE=DATE:20250816
DTSTAMP:20260422T063049
CREATED:20241009T060805Z
LAST-MODIFIED:20260311T090017Z
UID:4013-1751846400-1755302399@montessori-schule-wiesbaden.de
SUMMARY:School closed - summer holidays
DESCRIPTION:Holiday care from 07 July to 01 August 2025 – for registered children
URL:https://montessori-schule-wiesbaden.de/en/termin/summer-holidays-2/
CATEGORIES:School holidays
END:VEVENT
BEGIN:VEVENT
DTSTART;TZID=Europe/Berlin:20250703T100000
DTEND;TZID=Europe/Berlin:20250703T123000
DTSTAMP:20260422T063049
CREATED:20250522T075430Z
LAST-MODIFIED:20260311T090018Z
UID:4677-1751536800-1751545800@montessori-schule-wiesbaden.de
SUMMARY:Farewell to all fourth-graders
DESCRIPTION:
URL:https://montessori-schule-wiesbaden.de/en/termin/farewell-to-all-fourth-graders/
CATEGORIES:Event
END:VEVENT
BEGIN:VEVENT
DTSTART;TZID=Europe/Berlin:20250702T150000
DTEND;TZID=Europe/Berlin:20250702T190000
DTSTAMP:20260422T063049
CREATED:20250522T075800Z
LAST-MODIFIED:20260311T090018Z
UID:4679-1751468400-1751482800@montessori-schule-wiesbaden.de
SUMMARY:Azurit - Farewell party
DESCRIPTION:
URL:https://montessori-schule-wiesbaden.de/en/termin/azurit-farewell-party/
CATEGORIES:Event
END:VEVENT
BEGIN:VEVENT
DTSTART;TZID=Europe/Berlin:20250702T080000
DTEND;TZID=Europe/Berlin:20250702T150000
DTSTAMP:20260422T063049
CREATED:20250521T092210Z
LAST-MODIFIED:20260311T090019Z
UID:4759-1751443200-1751468400@montessori-schule-wiesbaden.de
SUMMARY:Amethyst - Excursion to the Sonnenberg Theatre
DESCRIPTION:
URL:https://montessori-schule-wiesbaden.de/en/termin/amethyst-excursion-to-the-sonnenberg-theatre/
CATEGORIES:Administration
END:VEVENT
BEGIN:VEVENT
DTSTART;TZID=Europe/Berlin:20250630T080000
DTEND;TZID=Europe/Berlin:20250630T150000
DTSTAMP:20260422T063049
CREATED:20250521T090755Z
LAST-MODIFIED:20260311T090019Z
UID:4756-1751270400-1751295600@montessori-schule-wiesbaden.de
SUMMARY:Amethyst - Excursion to Rüdesheim
DESCRIPTION:
URL:https://montessori-schule-wiesbaden.de/en/termin/amethyst-excursion-to-ruedesheim/
CATEGORIES:Administration
END:VEVENT
BEGIN:VEVENT
DTSTART;TZID=Europe/Berlin:20250628T140000
DTEND;TZID=Europe/Berlin:20250628T180000
DTSTAMP:20260422T063049
CREATED:20241009T061033Z
LAST-MODIFIED:20260311T090020Z
UID:4015-1751119200-1751133600@montessori-schule-wiesbaden.de
SUMMARY:Monti summer party
DESCRIPTION:with sponsored run
URL:https://montessori-schule-wiesbaden.de/en/termin/sommerfest-der-monti-2/
CATEGORIES:Event
END:VEVENT
BEGIN:VEVENT
DTSTART;TZID=Europe/Berlin:20250627T080000
DTEND;TZID=Europe/Berlin:20250627T130000
DTSTAMP:20260422T063049
CREATED:20241009T071104Z
LAST-MODIFIED:20260311T090020Z
UID:4018-1751011200-1751029200@montessori-schule-wiesbaden.de
SUMMARY:Citymarathon
DESCRIPTION:Voluntary participation \nChildren who are not registered will remain at school.
URL:https://montessori-schule-wiesbaden.de/en/termin/citymarathon-2/
CATEGORIES:Event
END:VEVENT
BEGIN:VEVENT
DTSTART;VALUE=DATE:20250620
DTEND;VALUE=DATE:20250621
DTSTAMP:20260422T063049
CREATED:20241008T095530Z
LAST-MODIFIED:20260311T090021Z
UID:4020-1750377600-1750463999@montessori-schule-wiesbaden.de
SUMMARY:Monti closed - bridge day
DESCRIPTION:School closed
URL:https://montessori-schule-wiesbaden.de/en/termin/bridge-day/
CATEGORIES:Administration
END:VEVENT
END:VCALENDAR