BEGIN:VCALENDAR
VERSION:2.0
PRODID:-//Montessori Schule Wiesbaden - ECPv6.15.17//NONSGML v1.0//EN
CALSCALE:GREGORIAN
METHOD:PUBLISH
X-ORIGINAL-URL:https://montessori-schule-wiesbaden.de
X-WR-CALDESC:Veranstaltungen für Montessori Schule Wiesbaden
REFRESH-INTERVAL;VALUE=DURATION:PT1H
X-Robots-Tag:noindex
X-PUBLISHED-TTL:PT1H
BEGIN:VTIMEZONE
TZID:Europe/Berlin
BEGIN:DAYLIGHT
TZOFFSETFROM:+0100
TZOFFSETTO:+0200
TZNAME:CEST
DTSTART:20220327T010000
END:DAYLIGHT
BEGIN:STANDARD
TZOFFSETFROM:+0200
TZOFFSETTO:+0100
TZNAME:CET
DTSTART:20221030T010000
END:STANDARD
BEGIN:DAYLIGHT
TZOFFSETFROM:+0100
TZOFFSETTO:+0200
TZNAME:CEST
DTSTART:20230326T010000
END:DAYLIGHT
BEGIN:STANDARD
TZOFFSETFROM:+0200
TZOFFSETTO:+0100
TZNAME:CET
DTSTART:20231029T010000
END:STANDARD
BEGIN:DAYLIGHT
TZOFFSETFROM:+0100
TZOFFSETTO:+0200
TZNAME:CEST
DTSTART:20240331T010000
END:DAYLIGHT
BEGIN:STANDARD
TZOFFSETFROM:+0200
TZOFFSETTO:+0100
TZNAME:CET
DTSTART:20241027T010000
END:STANDARD
END:VTIMEZONE
BEGIN:VEVENT
DTSTART;VALUE=DATE:20231019
DTEND;VALUE=DATE:20231020
DTSTAMP:20260422T180701
CREATED:20231009T102207Z
LAST-MODIFIED:20231029T162537Z
UID:1586-1697673600-1697759999@montessori-schule-wiesbaden.de
SUMMARY:Wettkampf Orientierungslauf für 4. Klässler
DESCRIPTION:
URL:https://montessori-schule-wiesbaden.de/termin/wettkampf-orientierungslauf-fuer-4-klaessler/
CATEGORIES:Veranstaltung
END:VEVENT
BEGIN:VEVENT
DTSTART;VALUE=DATE:20231017
DTEND;VALUE=DATE:20231020
DTSTAMP:20260422T180701
CREATED:20231009T102138Z
LAST-MODIFIED:20231029T162557Z
UID:1584-1697500800-1697759999@montessori-schule-wiesbaden.de
SUMMARY:Anmeldung zum Schuljahr 2024/25
DESCRIPTION:Geschäftsstelle mit eingeschränktem Service
URL:https://montessori-schule-wiesbaden.de/termin/anmeldung-zum-schuljahr-2024-25/
LOCATION:Montessori Schule Wiesbaden\, Butterblumenweg 5\, Wiesbaden\, Hessen\, 65201\, Deutschland
CATEGORIES:Administratives
ORGANIZER;CN="Montessori Schule Wiesbaden":MAILTO:info@montessori-schule-wiesbaden.de
END:VEVENT
BEGIN:VEVENT
DTSTART;TZID=Europe/Berlin:20231014T100000
DTEND;TZID=Europe/Berlin:20231014T140000
DTSTAMP:20260422T180701
CREATED:20231009T102018Z
LAST-MODIFIED:20231029T163756Z
UID:1581-1697277600-1697292000@montessori-schule-wiesbaden.de
SUMMARY:Tag der offenen Tür (1)
DESCRIPTION:Am 14.10.2023 von 10:00 Uhr – 14:00 Uhr öffnen wir unsere Räumlichkeiten für interessierte BesucherInnen. Umfänglich beantworten wir Fragen und beraten individuell für Vorschule\, Einschulung und Quereinstieg. \n11:30 Uhr: Informativer Vortrag zum pädagogischen Konzept unserer Schule. \n13:30 Uhr: Einblick in unseren Experimentierkurs und musikalischer Ausklang. \nWir freuen uns\, Sie kennenzulernen!
URL:https://montessori-schule-wiesbaden.de/termin/tag-der-offenen-tuer-1/
LOCATION:Montessori Schule Wiesbaden\, Butterblumenweg 5\, Wiesbaden\, Hessen\, 65201\, Deutschland
CATEGORIES:Veranstaltung
ORGANIZER;CN="Montessori Schule Wiesbaden":MAILTO:info@montessori-schule-wiesbaden.de
END:VEVENT
BEGIN:VEVENT
DTSTART;VALUE=DATE:20231003
DTEND;VALUE=DATE:20231004
DTSTAMP:20260422T180701
CREATED:20231009T100648Z
LAST-MODIFIED:20231029T162623Z
UID:1570-1696291200-1696377599@montessori-schule-wiesbaden.de
SUMMARY:Tag der Deutschen Einheit
DESCRIPTION:
URL:https://montessori-schule-wiesbaden.de/termin/tag-der-deutschen-einheit/
CATEGORIES:Feiertag
END:VEVENT
END:VCALENDAR