BEGIN:VCALENDAR
VERSION:2.0
PRODID:-//Montessori Schule Wiesbaden - ECPv6.15.17//NONSGML v1.0//EN
CALSCALE:GREGORIAN
METHOD:PUBLISH
X-ORIGINAL-URL:https://montessori-schule-wiesbaden.de
X-WR-CALDESC:Veranstaltungen für Montessori Schule Wiesbaden
REFRESH-INTERVAL;VALUE=DURATION:PT1H
X-Robots-Tag:noindex
X-PUBLISHED-TTL:PT1H
BEGIN:VTIMEZONE
TZID:Europe/Berlin
BEGIN:DAYLIGHT
TZOFFSETFROM:+0100
TZOFFSETTO:+0200
TZNAME:CEST
DTSTART:20250330T010000
END:DAYLIGHT
BEGIN:STANDARD
TZOFFSETFROM:+0200
TZOFFSETTO:+0100
TZNAME:CET
DTSTART:20251026T010000
END:STANDARD
BEGIN:DAYLIGHT
TZOFFSETFROM:+0100
TZOFFSETTO:+0200
TZNAME:CEST
DTSTART:20260329T010000
END:DAYLIGHT
BEGIN:STANDARD
TZOFFSETFROM:+0200
TZOFFSETTO:+0100
TZNAME:CET
DTSTART:20261025T010000
END:STANDARD
BEGIN:DAYLIGHT
TZOFFSETFROM:+0100
TZOFFSETTO:+0200
TZNAME:CEST
DTSTART:20270328T010000
END:DAYLIGHT
BEGIN:STANDARD
TZOFFSETFROM:+0200
TZOFFSETTO:+0100
TZNAME:CET
DTSTART:20271031T010000
END:STANDARD
END:VTIMEZONE
BEGIN:VEVENT
DTSTART;VALUE=DATE:20260605
DTEND;VALUE=DATE:20260606
DTSTAMP:20260422T032211
CREATED:20250912T094655Z
LAST-MODIFIED:20260311T090000Z
UID:5197-1780617600-1780703999@montessori-schule-wiesbaden.de
SUMMARY:Monti geschlossen - Brückentag
DESCRIPTION:
URL:https://montessori-schule-wiesbaden.de/termin/monti-geschlossen-brueckentag-2/
CATEGORIES:Brückentag
END:VEVENT
BEGIN:VEVENT
DTSTART;TZID=Europe/Berlin:20260612T080000
DTEND;TZID=Europe/Berlin:20260612T123000
DTSTAMP:20260422T032211
CREATED:20260311T085021Z
LAST-MODIFIED:20260311T085959Z
UID:5486-1781251200-1781267400@montessori-schule-wiesbaden.de
SUMMARY:Bundesjugendspiele
DESCRIPTION:
URL:https://montessori-schule-wiesbaden.de/termin/bundesjugendspiele-3/
CATEGORIES:Veranstaltung
END:VEVENT
BEGIN:VEVENT
DTSTART;TZID=Europe/Berlin:20260619T080000
DTEND;TZID=Europe/Berlin:20260619T123000
DTSTAMP:20260422T032211
CREATED:20260311T085108Z
LAST-MODIFIED:20260311T085959Z
UID:5488-1781856000-1781872200@montessori-schule-wiesbaden.de
SUMMARY:Bundesjugendspiele (Ersatztermin)
DESCRIPTION:
URL:https://montessori-schule-wiesbaden.de/termin/bundesjugendspiele-ersatztermin-3/
CATEGORIES:Veranstaltung
END:VEVENT
BEGIN:VEVENT
DTSTART;TZID=Europe/Berlin:20260620T140000
DTEND;TZID=Europe/Berlin:20260620T180000
DTSTAMP:20260422T032211
CREATED:20260311T085159Z
LAST-MODIFIED:20260311T085959Z
UID:5490-1781964000-1781978400@montessori-schule-wiesbaden.de
SUMMARY:Monti - Sommerfest
DESCRIPTION:
URL:https://montessori-schule-wiesbaden.de/termin/monti-sommerfest/
CATEGORIES:Veranstaltung
END:VEVENT
BEGIN:VEVENT
DTSTART;VALUE=DATE:20260629
DTEND;VALUE=DATE:20260725
DTSTAMP:20260422T032211
CREATED:20260311T090850Z
LAST-MODIFIED:20260311T090854Z
UID:5494-1782691200-1784937599@montessori-schule-wiesbaden.de
SUMMARY:Ferienbetreuung - Sommerferien
DESCRIPTION:
URL:https://montessori-schule-wiesbaden.de/termin/ferienbetreuung-sommerferien-3/
CATEGORIES:Ferienbetreuung
END:VEVENT
BEGIN:VEVENT
DTSTART;VALUE=DATE:20260629
DTEND;VALUE=DATE:20260808
DTSTAMP:20260422T032211
CREATED:20260311T085334Z
LAST-MODIFIED:20260311T085959Z
UID:5492-1782691200-1786147199@montessori-schule-wiesbaden.de
SUMMARY:Schule geschlossen - Sommerferien
DESCRIPTION:
URL:https://montessori-schule-wiesbaden.de/termin/schule-geschlossen-sommerferien/
CATEGORIES:Schulferien
END:VEVENT
BEGIN:VEVENT
DTSTART;VALUE=DATE:20260810
DTEND;VALUE=DATE:20260811
DTSTAMP:20260422T032211
CREATED:20260311T091034Z
LAST-MODIFIED:20260311T091037Z
UID:5496-1786320000-1786406399@montessori-schule-wiesbaden.de
SUMMARY:1. Schultag für Montinis und 2. bis 4. Klasse
DESCRIPTION:
URL:https://montessori-schule-wiesbaden.de/termin/1-schultag-fuer-montinis-und-2-bis-4-klasse/
CATEGORIES:Administratives
END:VEVENT
BEGIN:VEVENT
DTSTART;VALUE=DATE:20260812
DTEND;VALUE=DATE:20260813
DTSTAMP:20260422T032211
CREATED:20260311T091248Z
LAST-MODIFIED:20260311T091252Z
UID:5498-1786492800-1786579199@montessori-schule-wiesbaden.de
SUMMARY:1. Schultag für unsere neuen Erstklässler
DESCRIPTION:
URL:https://montessori-schule-wiesbaden.de/termin/1-schultag-fuer-unsere-neuen-erstklaessler/
CATEGORIES:Veranstaltung
END:VEVENT
BEGIN:VEVENT
DTSTART;VALUE=DATE:20261005
DTEND;VALUE=DATE:20261010
DTSTAMP:20260422T032211
CREATED:20260311T091938Z
LAST-MODIFIED:20260311T091941Z
UID:5504-1791158400-1791590399@montessori-schule-wiesbaden.de
SUMMARY:Ferienbetreuung - Herbstferien
DESCRIPTION:
URL:https://montessori-schule-wiesbaden.de/termin/ferienbetreuung-herbstferien/
CATEGORIES:Ferienbetreuung
END:VEVENT
BEGIN:VEVENT
DTSTART;VALUE=DATE:20261005
DTEND;VALUE=DATE:20261017
DTSTAMP:20260422T032211
CREATED:20260311T091808Z
LAST-MODIFIED:20260311T091812Z
UID:5502-1791158400-1792195199@montessori-schule-wiesbaden.de
SUMMARY:Schule geschlossen - Herbstferien
DESCRIPTION:
URL:https://montessori-schule-wiesbaden.de/termin/schule-geschlossen-herbstferien/
CATEGORIES:Schulferien
END:VEVENT
BEGIN:VEVENT
DTSTART;TZID=Europe/Berlin:20261107T100000
DTEND;TZID=Europe/Berlin:20261107T140000
DTSTAMP:20260422T032211
CREATED:20260311T105005Z
LAST-MODIFIED:20260311T105010Z
UID:5510-1794045600-1794060000@montessori-schule-wiesbaden.de
SUMMARY:Tag der offenen Tür
DESCRIPTION:
URL:https://montessori-schule-wiesbaden.de/termin/tag-der-offenen-tuer-6/
LOCATION:Montessori Schule Wiesbaden\, Butterblumenweg 5\, Wiesbaden\, Hessen\, 65201\, Deutschland
CATEGORIES:Veranstaltung
END:VEVENT
END:VCALENDAR